BEGIN:VCALENDAR
VERSION:2.0
PRODID:-//Coral &amp; Reed Health &amp; Social Care Training Centre
CALSCALE:GREGORIAN
METHOD:PUBLISH
X-WR-CALNAME:Coral &amp; Reed Health &amp; Social Care Training Centre
X-ORIGINAL-URL:https://coralandreed.co.uk/product/clasrrom-basic-life-support/
X-WR-CALDESC:Basic Life Support
BEGIN:VEVENT
DTSTART;TZID=Europe/Paris:20220119T161500
DTEND;TZID=Europe/Paris:20220119T170000
SUMMARY:Basic Life Support
DESCRIPTION:This Basic Life Support course is suitable for all staff who may be called upon to undertake Basic life Support  duties in the course of their roles. Learning outcomes Components of basic life support The respiratory system Treating a chocking adult Treating a chocking infant Treating a chocking child
URL:https://coralandreed.co.uk/product/clasrrom-basic-life-support/
LOCATION:1st Floor, Thames House, Waterside Drive, Langley, SL3 6EZ   
END:VEVENT
END:VCALENDAR
