BEGIN:VCALENDAR
VERSION:2.0
PRODID:-//Coral &amp; Reed Health &amp; Social Care Training Centre
CALSCALE:GREGORIAN
METHOD:PUBLISH
X-WR-CALNAME:Coral &amp; Reed Health &amp; Social Care Training Centre
X-ORIGINAL-URL:https://coralandreed.co.uk/product/conflict-management/
X-WR-CALDESC:Conflict Management
BEGIN:VEVENT
DTSTART;TZID=Europe/Paris:20210423T100000
DTEND;TZID=Europe/Paris:20210423T123000
SUMMARY:Conflict Management
DESCRIPTION:
URL:https://coralandreed.co.uk/product/conflict-management/
LOCATION:Easden House, Petersfield Ave, Slough SL2 5EA
END:VEVENT
END:VCALENDAR
