BEGIN:VCALENDAR
VERSION:2.0
PRODID:-//Coral &amp; Reed Health &amp; Social Care Training Centre
CALSCALE:GREGORIAN
METHOD:PUBLISH
X-WR-CALNAME:Coral &amp; Reed Health &amp; Social Care Training Centre
X-ORIGINAL-URL:https://coralandreed.co.uk/product/virtual-care-certificate-course/
X-WR-CALDESC:Care Certificate Course
BEGIN:VEVENT
DTSTART;TZID=Europe/Paris:20210727T090000
DTEND;TZID=Europe/Paris:20210729T183000
SUMMARY:Care Certificate Course
DESCRIPTION:Buy these courses together and Save! Moving &amp; Handling Health &amp; Safety Infection Control Safeguarding of Vulnerable Adults Basic First Aid.
URL:https://coralandreed.co.uk/product/virtual-care-certificate-course/
LOCATION:1st Floor, Thames House, Waterside Drive, Langley, SL3 6EZ
END:VEVENT
END:VCALENDAR
