BEGIN:VCALENDAR
VERSION:2.0
PRODID:-//Coral &amp; Reed Health &amp; Social Care Training Centre
CALSCALE:GREGORIAN
METHOD:PUBLISH
X-WR-CALNAME:Coral &amp; Reed Health &amp; Social Care Training Centre
X-ORIGINAL-URL:https://coralandreed.co.uk/product/virtual-manual-handling/
X-WR-CALDESC:Manual Handling
BEGIN:VEVENT
DTSTART;TZID=Europe/Paris:20211005T170000
DTEND;TZID=Europe/Paris:20211005T183000
SUMMARY:Manual Handling
DESCRIPTION:This Moving and Handling training course is suitable for all staff who may be called upon to undertake Moving &amp; Handling in the course of their duties. It will approximately take 2 hours and upon successful completion of the session you will be able to undertake a questionnaire. Learning outcomes Understand what is Moving and Handling Employer and Employee regulations Understand Moving and Handling Legal Framework Understand Manual Handling Risk Factors How to carry out safe Manual Handling Understand risk assessments. Assessment: Candidates will have a short assessment within the course and at the end of the course.
URL:https://coralandreed.co.uk/product/virtual-manual-handling/
LOCATION:1st Floor, Thames House, Waterside Drive, Langley, SL3 6EZ. 
END:VEVENT
END:VCALENDAR
