BEGIN:VCALENDAR
VERSION:2.0
PRODID:-//Coral &amp; Reed Health &amp; Social Care Training Centre
CALSCALE:GREGORIAN
METHOD:PUBLISH
X-WR-CALNAME:Coral &amp; Reed Health &amp; Social Care Training Centre
X-ORIGINAL-URL:https://coralandreed.co.uk/product/refresher-course-10/
X-WR-CALDESC:Refresher Course
BEGIN:VEVENT
DTSTART;TZID=Europe/Paris:20211013T090000
DTEND;TZID=Europe/Paris:20211013T183000
SUMMARY:Refresher Course
DESCRIPTION:Classroom course. Refresher course For your workers to continually develop and grow as professionals refresher courses are essential. Our refresher courses are specifically designed to check, affirm and refresh good practices, while filling in professional gaps in carers. The training is aimed to relevantly address issues encountered while complying with your induction standards developed by skills for care. Our training focuses on developing the core values of care.
URL:https://coralandreed.co.uk/product/refresher-course-10/
LOCATION:1st Floor, Thames House, Waterside Drive,  Langley, Berkshire, SL3 6EZ
END:VEVENT
END:VCALENDAR
