BEGIN:VCALENDAR
VERSION:2.0
PRODID:-//Coral &amp; Reed Health &amp; Social Care Training Centre
CALSCALE:GREGORIAN
METHOD:PUBLISH
X-WR-CALNAME:Coral &amp; Reed Health &amp; Social Care Training Centre
X-ORIGINAL-URL:https://coralandreed.co.uk/product/care-certificate-course-4/
X-WR-CALDESC:Care Certificate Course
BEGIN:VEVENT
DTSTART;TZID=Europe/Paris:20210901T090000
DTEND;TZID=Europe/Paris:20210901T180000
SUMMARY:Care Certificate Course
DESCRIPTION:Classroom course - Buy these courses together and Save! Moving &amp; Handling Health &amp; Safety Infection Control Safeguarding of Vulnerable Adults Basic First Aid.
URL:https://coralandreed.co.uk/product/care-certificate-course-4/
LOCATION:Easden House, Petersfield Ave, Slough SL2 5EA
END:VEVENT
END:VCALENDAR
