BEGIN:VCALENDAR
VERSION:2.0
PRODID:-//Coral &amp; Reed Health &amp; Social Care Training Centre
CALSCALE:GREGORIAN
METHOD:PUBLISH
X-WR-CALNAME:Coral &amp; Reed Health &amp; Social Care Training Centre
X-ORIGINAL-URL:https://coralandreed.co.uk/product/2-day-care-course/
X-WR-CALDESC:2 Day Care Course
BEGIN:VEVENT
DTSTART;TZID=Europe/Paris:20211109T090000
DTEND;TZID=Europe/Paris:20211110T183000
SUMMARY:2 Day Care Course
DESCRIPTION:Classroom - Buy these courses together and Save! Moving &amp; Handling Health &amp; Safety Infection Control Safeguarding of Vulnerable Adults Basic First Aid.
URL:https://coralandreed.co.uk/product/2-day-care-course/
LOCATION:1st Floor, Thames House, Waterside Drive, Langley, SL3 6EZ
END:VEVENT
END:VCALENDAR
