BEGIN:VCALENDAR
VERSION:2.0
PRODID:-//Coral &amp; Reed Health &amp; Social Care Training Centre
CALSCALE:GREGORIAN
METHOD:PUBLISH
X-WR-CALNAME:Coral &amp; Reed Health &amp; Social Care Training Centre
X-ORIGINAL-URL:https://coralandreed.co.uk/product/2-day-care-course-2/
X-WR-CALDESC:2 Day Care Course
BEGIN:VEVENT
DTSTART;TZID=Europe/Paris:20220111T085800
DTEND;TZID=Europe/Paris:20220112T183000
SUMMARY:2 Day Care Course
DESCRIPTION:The 2 Day Mandatory course covers introduces the learner to the various aspects of safety in the health and social care setting as well as how to deal with issues of abuse. Learners will learn how to assist individuals on aspects to do with nutrition and fluids as well as ensuring privacy and dignity when providing care and support. Moving &amp; Handling Health &amp; Safety Privacy &amp; Dignity Nutrition &amp; Fluids Infection Control Safeguarding of Vulnerable Adults Basic First Aid ( Theory &amp; Practical) Nutrition &amp; Fluids Dementia, Mental Health and Learning Disabilities Safeguarding of Children Handling Information
URL:https://coralandreed.co.uk/product/2-day-care-course-2/
LOCATION:1st Floor, Thames House, Waterside Drive, Langley, SL3 6EZ
END:VEVENT
END:VCALENDAR
