BEGIN:VCALENDAR
VERSION:2.0
PRODID:-//Coral &amp; Reed Health &amp; Social Care Training Centre
CALSCALE:GREGORIAN
METHOD:PUBLISH
X-WR-CALNAME:Coral &amp; Reed Health &amp; Social Care Training Centre
X-ORIGINAL-URL:https://coralandreed.co.uk/product/level-2-food-hygiene-3/
X-WR-CALDESC:Level 2 Food Hygiene
BEGIN:VEVENT
DTSTART;TZID=Europe/Paris:20220401T093000
DTEND;TZID=Europe/Paris:20220401T123000
SUMMARY:Level 2 Food Hygiene
DESCRIPTION:This Level 2 Food Hygiene course is designed to enable food handlers understand the importance of food safety, principles of safe food preparation, personal hygiene and waste management.
URL:https://coralandreed.co.uk/product/level-2-food-hygiene-3/
LOCATION:1st Floor, Thames House, Waterside Drive, Langley, SL3 6EZ
END:VEVENT
END:VCALENDAR
