BEGIN:VCALENDAR
VERSION:2.0
PRODID:-//Coral &amp; Reed Health &amp; Social Care Training Centre
CALSCALE:GREGORIAN
METHOD:PUBLISH
X-WR-CALNAME:Coral &amp; Reed Health &amp; Social Care Training Centre
X-ORIGINAL-URL:https://coralandreed.co.uk/product/care-certificate-course-3/
X-WR-CALDESC:Care Certificate Course
BEGIN:VEVENT
DTSTART;TZID=Europe/Paris:20230104T085900
DTEND;TZID=Europe/Paris:20230106T183000
SUMMARY:Care Certificate Course
DESCRIPTION:The Care Certificate is the new minimum standards that should be covered as part of induction training for new care workers. It has been designed to provide all carers starting out in the health and social care setting with the skills and knowledge required to work effectively and applies to all health and social care settings. Our Care Certificate gives candidates the introductory skills, knowledge and behaviours to provide compassionate, safe and high quality care and support. It meets the minimum set requirements as set by Skills for Care and links to the National Occupational Standards and has been developed in conjunction with Skills for Health. Candidates will cover the 15 standards, all of which individuals need to complete in full before they can be awarded their certificate: Moving &amp; Handling                                             Privacy &amp; Dignity                                                             Personal Development Health &amp; Safety                                                    Nutrition &amp; Fluids                                                             Understand a role Infection Control                                                 Learning Disabilities, Dementia, &amp; Mental Health    Duty of Care Safeguarding of Vulnerable Adults                  Safeguarding of Children                                                Equality &amp; Diversity Basic First Aid.                                                     Handling Information                                                      Person Centred Care  &amp; Communication
URL:https://coralandreed.co.uk/product/care-certificate-course-3/
LOCATION:1st Floor, Thames House, The Courtyard, Waterside Drive, Langley, SL3 6EZ
END:VEVENT
END:VCALENDAR
