BEGIN:VCALENDAR
VERSION:2.0
PRODID:-//Coral &amp; Reed Health &amp; Social Care Training Centre
CALSCALE:GREGORIAN
METHOD:PUBLISH
X-WR-CALNAME:Coral &amp; Reed Health &amp; Social Care Training Centre
X-ORIGINAL-URL:https://coralandreed.co.uk/product/dementia-awareness/
X-WR-CALDESC:Dementia Awareness
BEGIN:VEVENT
DTSTART;TZID=Europe/Paris:20240621T093000
DTEND;TZID=Europe/Paris:20240621T133000
SUMMARY:Dementia Awareness
DESCRIPTION:
URL:https://coralandreed.co.uk/product/dementia-awareness/
LOCATION:1st Floor, Thames House, Waterside Drive, Langley, SL3 6EZ
END:VEVENT
END:VCALENDAR
