BEGIN:VCALENDAR
VERSION:2.0
PRODID:-//Coral &amp; Reed Health &amp; Social Care Training Centre
CALSCALE:GREGORIAN
METHOD:PUBLISH
X-WR-CALNAME:Coral &amp; Reed Health &amp; Social Care Training Centre
X-ORIGINAL-URL:https://coralandreed.co.uk/product/peg-feeding-stoma-care/
X-WR-CALDESC:Peg Feeding &#038; Stoma Care
BEGIN:VEVENT
DTSTART;TZID=Europe/Paris:20241018T093000
DTEND;TZID=Europe/Paris:20241018T130000
SUMMARY:Peg Feeding & Stoma Care
DESCRIPTION:Our Peg Feeding &amp; Stoma Care course is designed to familiarise learners with the reasons for Percutaneous Endoscopic Gastrostomy Feeding (PEG).
URL:https://coralandreed.co.uk/product/peg-feeding-stoma-care/
LOCATION:1st Floor, Thames House, Waterside Drive, Langley, SL3 6EZ
END:VEVENT
END:VCALENDAR
