BEGIN:VCALENDAR
VERSION:2.0
PRODID:-//Coral &amp; Reed Health &amp; Social Care Training Centre
CALSCALE:GREGORIAN
METHOD:PUBLISH
X-WR-CALNAME:Coral &amp; Reed Health &amp; Social Care Training Centre
X-ORIGINAL-URL:https://coralandreed.co.uk/product/oral-care-dysphagia-awareness/
X-WR-CALDESC:Oral Care &#038; Dysphagia Awareness
BEGIN:VEVENT
DTSTART;TZID=Europe/Paris:20240725T093000
DTEND;TZID=Europe/Paris:20240725T130000
SUMMARY:Oral Care & Dysphagia Awareness
DESCRIPTION:
URL:https://coralandreed.co.uk/product/oral-care-dysphagia-awareness/
LOCATION:1st Floor, Thames House, Waterside Drive, Langley, SL3 6EZ
END:VEVENT
END:VCALENDAR
