BEGIN:VCALENDAR
VERSION:2.0
PRODID:-//Coral &amp; Reed Health &amp; Social Care Training Centre
CALSCALE:GREGORIAN
METHOD:PUBLISH
X-WR-CALNAME:Coral &amp; Reed Health &amp; Social Care Training Centre
X-ORIGINAL-URL:https://coralandreed.co.uk/product/manual-handling-9/
X-WR-CALDESC:Manual Handling
BEGIN:VEVENT
DTSTART;TZID=Europe/Paris:20240530T100000
DTEND;TZID=Europe/Paris:20240530T123000
SUMMARY:Manual Handling
DESCRIPTION:Manual Handling Practical training course is suitable for all staff who may be called upon to undertake Moving &amp; Handling in the course of their duties according to The Health and Safety Act 1974.  It will approximately take 3 - 4 hours and upon successful completion of the session you will be certificated. Learning outcomes Transfer from chair to chair/ commode Transfer from chair to bed Individual bed repositioning (Sliding sheets) Use of bathroom equipment Use of mechanical aids (Rotander, Moving &amp; Handling Belt) &nbsp;
URL:https://coralandreed.co.uk/product/manual-handling-9/
LOCATION:1st Floor, Thames House, The Courtyard, Waterside Drive, Langley, SL3 6EZ
END:VEVENT
END:VCALENDAR
