BEGIN:VCALENDAR
VERSION:2.0
PRODID:-//Coral &amp; Reed Health &amp; Social Care Training Centre
CALSCALE:GREGORIAN
METHOD:PUBLISH
X-WR-CALNAME:Coral &amp; Reed Health &amp; Social Care Training Centre
X-ORIGINAL-URL:https://coralandreed.co.uk/product/tracheostomy-course-training/
X-WR-CALDESC:Tracheostomy Course Training
BEGIN:VEVENT
DTSTART;TZID=Europe/Paris:20240502T110000
DTEND;TZID=Europe/Paris:20240502T130000
SUMMARY:Tracheostomy Course Training
DESCRIPTION:
URL:https://coralandreed.co.uk/product/tracheostomy-course-training/
LOCATION:1st Floor, Thames House, Waterside Drive, Langley, SL3 6EZ
END:VEVENT
END:VCALENDAR
