BEGIN:VCALENDAR
VERSION:2.0
PRODID:-//Coral &amp; Reed Health &amp; Social Care Training Centre
CALSCALE:GREGORIAN
METHOD:PUBLISH
X-WR-CALNAME:Coral &amp; Reed Health &amp; Social Care Training Centre
X-ORIGINAL-URL:https://coralandreed.co.uk/product/learning-disability-awareness/
X-WR-CALDESC:Learning Disability Awareness
BEGIN:VEVENT
DTSTART;TZID=Europe/Paris:20240404T093000
DTEND;TZID=Europe/Paris:20240404T130000
SUMMARY:Learning Disability Awareness
DESCRIPTION:Learning Disability
URL:https://coralandreed.co.uk/product/learning-disability-awareness/
LOCATION:1st Floor, Thames House, Waterside Drive, Langley, SL3 6EZ
END:VEVENT
END:VCALENDAR
