BEGIN:VCALENDAR
VERSION:2.0
PRODID:-//Coral &amp; Reed Health &amp; Social Care Training Centre
CALSCALE:GREGORIAN
METHOD:PUBLISH
X-WR-CALNAME:Coral &amp; Reed Health &amp; Social Care Training Centre
X-ORIGINAL-URL:https://coralandreed.co.uk/product/1-day-mandatory-course-131/
X-WR-CALDESC:1 Day Mandatory Course
BEGIN:VEVENT
DTSTART;TZID=Europe/Paris:20240918T085700
DTEND;TZID=Europe/Paris:20240918T183000
SUMMARY:1 Day Mandatory Course
DESCRIPTION:The 1 Day Mandatory Course is designed to provide our learners with an understanding on a number of courses required in an Health &amp; Social care setting. Sessions can be done as a classroom or virtually in real time with a trainer. (Places are limited so book early to avoid disappointment). The 1 Day covers: Moving &amp; Handling (Theory and Practical) Health &amp; Safety Infection Control Safeguarding of Vulnerable Adults Basic First Aid.
URL:https://coralandreed.co.uk/product/1-day-mandatory-course-131/
LOCATION:1st Floor, Thames House, Waterside Drive, Langley, SL3 6EZ
END:VEVENT
END:VCALENDAR
