BEGIN:VCALENDAR
VERSION:2.0
PRODID:-//Coral &amp; Reed Health &amp; Social Care Training Centre
CALSCALE:GREGORIAN
METHOD:PUBLISH
X-WR-CALNAME:Coral &amp; Reed Health &amp; Social Care Training Centre
X-ORIGINAL-URL:https://coralandreed.co.uk/product/medication-administration-8/
X-WR-CALDESC:Medication Administration
BEGIN:VEVENT
DTSTART;TZID=Europe/Paris:20260316T093000
DTEND;TZID=Europe/Paris:20260316T133000
SUMMARY:Medication Administration
DESCRIPTION:Virtual Course - This Medication Administration training course is designed for workers who administer medication in all health and social care settings. It covers the legal aspects involved in medication, the responsibility of the designated persons, the different categories of drugs as well as how to administer medication safely. Learning Outcomes Understand the medication legal framework The roles and responsibilities of the designated persons Understand the different categories of drugs and how they work Understand how to administer drugs safely and keep records Understand how to deal with medication errors Understand the legal requirements on storage and disposal of drugs
URL:https://coralandreed.co.uk/product/medication-administration-8/
LOCATION:1st Floor, Thames House, Waterside Drive, Langley, SL3 6EZ
END:VEVENT
END:VCALENDAR
